Workbook
Name Liste_AfaMethode: Konfiguration!$C$17:$C$18
Name Liste_JaNein: Konfiguration!$C$15:$C$16

Sheet Rechtliches
C8: Rechtliches
C10: Dieses Kalkulationstool wird von der Immocation GmbH kostenlos zur Verfügung gestellt. Die Datei darf dennoch ohne Zustimmung weder vervielfältigt, noch weitergegeben oder sonst irgendwie anderen Benutzern zugänglich gemacht werden. Bei Interesse kann sie jeder unter https://www.immocation.de/neubau herunterladen. Microsoft Excel ist ein Produkt der Firma Microsoft. Wir stehen in keinerlei rechtlicher Beziehung zu Microsoft und handeln auch nicht in Microsofts Namen. Wir weisen ausdrücklich darauf hin, dass wir keinerlei Rechts-, Steuer- oder Finanzberatung erbringen und die geschilderte Rechtslage zum Teil zur besseren Verständlichkeit und Lesbarkeit außerdem auch vereinfacht dargestellt wurde. Alle von uns erteilten Ratschläge fußen ausschließlich auf unserer persönlichen Erfahrung und unserer persönlichen Meinung. Auch wenn wir jede unserer Empfehlungen mit größtmöglicher Sorgfalt und umfangreicher Recherche entwickelt und fortlaufend kritisch hinterfragt haben, können wir hierfür keinerlei Gewähr bieten. Gleiches gilt auch für die Vollständigkeit und Richtigkeit der dargestellten Rechtslage. Die erteilten Ratschläge können ferner auch keine fundierte und auf den Einzelfall zugeschnittene Rechts-, Steuer- oder Finanzberatung ersetzen. Wir können daher weder eine Erfolgsgarantie für die von uns abgegebenen Empfehlungen noch eine Haftung für evtl. Folgen ihrer Anwendung übernehmen. Auch sämtliche Kalkulationstools wurden mit größter Sorgfalt erstellt. Wir haben durch mehrfache Überprüfungen bestmöglich versucht, Berechnungsfehler auszuschließen. Trotzdem können Fehler nicht vollständig ausgeschlossen werden. Daher können wir keine juristische Verantwortung und keinerlei Haftung für eventuell verbliebene Fehler und deren Folgen übernehmen. Um etwaige Fehler so weit wie möglich auszuschließen, empfehlen wir dringend und in jedem Fall eigenständige Kontrollrechnungen durchzuführen und ggf. zusätzlichen Fachrat eines Rechts-, Steuer- oder Finanzberaters einzuholen.
C32: Copyright 2026
C33: www.immocation.de

Sheet Start
C4: Kalkulationstool: Neubau für Immobilieninvestoren
C8: Mehr Immobilieninvestoren sollten die Chancen des Neubaus nutzen
C10: immocation ist die größte Plattform privater Immobilieninvestoren in Europa. Und wir bei immocation sind überzeugt: Neubau ist für Immobilieninvestoren aktuell eine der spannendsten Möglichkeiten, steueroptimiert einen hochwertigen und rentablen Immobilienbestand aufzubauen. Gleichzeitig ist ein eigenes Neubauprojekt für viele Investoren mit erheblicher Komplexität verbunden. Genau hier sehen wir einen großen Vorteil von Fertighäusern: Planbarkeit, standardisierte Prozesse und ein zentraler Ansprechpartner können die Umsetzung eines Neubauprojekts erheblich vereinfachen und beschleunigen. Wir haben uns deshalb intensiv mit dem Markt und verschiedenen Fertighausanbietern beschäftigt. Danwood hat uns dabei mit seinem Gesamtkonzept besonders überzeugt. Neben hoher Zuverlässigkeit und Qualität, versteht Danwood wirklich, wie Immobilieninvestoren denken. Einen kleinen ersten Eindruck vermittelt vielleicht dieses gemeinsam entwickelte Kalkulationstool. Wir bei Danwood und immocation haben ein gemeinsames Ziel: Mehr Immobilieninvestoren sollen die Chancen des Neubaus nutzen können – mit möglichst wenig unnötiger Komplexität auf dem Weg von der Idee zum fertigen Mietobjekt. Aus diesem Grund haben wir eine Partnerschaft mit Danwood gestartet und empfehlen der immocation Community ausdrücklich, Danwood bei eigenen Neubauprojekten als Partner in Betracht zu ziehen.
D32: Kalkulation starten
C36: Warum wir bei immocation Neubau gerade für ein geniales Investment halten
C38: Außergewöhnlich attraktive steuerliche Möglichkeiten: Für neu geschaffenen Wohnraum bestehen aktuell besonders interessante Abschreibungsmöglichkeiten. Dazu gehören – abhängig von den jeweiligen Voraussetzungen – die degressive Gebäude-AfA und die Sonderabschreibung für Mietwohnungsneubau nach § 7b EStG. Das kann die Nachsteuerrendite eines Investments dramatisch verbessern. Und trotzdem bleibt der steuerfreie Verkauf nach 10 Jahren. Keine Mietpreisbremse bei entsprechendem Neubau: Wohnungen, die nach dem 1. Oktober 2014 erstmals genutzt und vermietet wurden, sind von der Mietpreisbremse ausgenommen. Damit besteht bei der Erstvermietung deutlich mehr Freiheit bei der marktgerechten Mietpreisgestaltung. Energieeffizienz von Anfang an: Statt sich mit alten Heizungen, schlechten Energieklassen und zukünftigen energetischen Sanierungen beschäftigen zu müssen, entsteht ein Gebäude nach heutigen energetischen Anforderungen. Attraktive Mieten und Nebenkosten: Moderne Grundrisse, zeitgemäße Ausstattung und eine hohe Energieeffizienz machen Neubauten für viele Mieter besonders attraktiv. Gleichzeitig können niedrige Energie- und Nebenkosten die Zahlungsbereitschaft für die Kaltmiete erhöhen. Sehr geringer Instandhaltungsbedarf: Dach, Heizung, Fenster, Leitungen und andere wesentliche Bauteile sind neu. Größere Instandhaltungsmaßnahmen sind deshalb in den ersten Jahren typischerweise deutlich weniger wahrscheinlich als bei älteren Bestandsobjekten. Weniger Überraschungen: Keine unbekannten Altlasten, kein Sanierungsstau aus vergangenen Jahrzehnten und deutlich weniger technische Unsicherheiten als bei vielen Bestandsimmobilien. Attraktives Mieterklientel: Hochwertige Neubauwohnungen sprechen häufig solvente und langfristig orientierte Mieter an. Als Erstvermieter kann man außerdem von Beginn an gezielt auswählen, an welche Zielgruppe und zu welchen Rahmenbedingungen man vermietet. Ein Objekt genau passend zur eigenen Strategie: Statt das zu kaufen, was zufällig am Markt verfügbar ist, kann man Wohnungsgrößen, Grundrisse, Ausstattung und Gesamtkonzept gezielt auf die gewünschte Mieterzielgruppe und den eigenen Investitionsstandort ausrichten. Und mit einem erfahrenen Fertighaushersteller lässt sich ein wesentlicher Nachteil des Neubaus deutlich reduzieren: seine Komplexität. Genau deshalb arbeiten wir mit Danwood zusammen.
C76: Copyright 2026
C77: www.immocation.de

Sheet Cockpit
B1: DANWOOD NEUBAU KALKULATIONSTOOL
B2: Hinterlegte Felder = Eingaben, alles andere wird berechnet.
B4: DHH Partner 116W; Musterstraße 1, 44135 Dortmund | K4: Datum (Stand) | L4: 46266
B6: INVESTITIONEN UND KOSTEN | E6: FINANZIERUNG UND STEUER | H6: MIETE UND BEWIRTSCHAFTUNG | K6: KENNZAHLEN
B8: Grundstück | E8: Eigenkapital | H8: Objekt & Fläche | K8: Ergebnis Jahr 1
B9: Kaufpreis Grundstück | C9: 75000 | E9: Eigenkapital | F9: 55000 | H9: Anzahl Wohneinheiten | I9: 1 | K9: Bruttomietrendite (ohne PV) | L9: =Cockpit!$I$17/(Cockpit!$C$9+Cockpit!$C$25+Cockpit!$C$30) -> 0.040371382
B10: Grunderwerbsteuer (NRW) | C10: 0.065 | E10: Nötiges Gesamtdarlehen | F10: =Cockpit!$C$38-Cockpit!$F$9 -> 423698.5 | H10: Vermietbare Wohnfläche | I10: 109.2 | K10: Cashflow vor Steuern | L10: =Jahresverlauf!G6 -> -3407.9088
B11: Notar | C11: 0.015 | E11: Finanzierungsanteil | F11: =Cockpit!$F$10/(Cockpit!$C$38-Cockpit!$C$14) -> 0.90216567 | K11: Cashflow nach Steuern | L11: =Jahresverlauf!K6 -> 12368.378
B12: Grundbuchamt | C12: 0.005 | H12: Miete | K12: Cashflow + Tilgung nach Steuern | L12: =Jahresverlauf!K6+Jahresverlauf!F6 -> 18836.139
B13: Makler | C13: 0.0357 | E13: Förderdarlehen (KfW) | H13: Kaltmiete pro m² / Monat | I13: 13.5 | K13: Anfängliche EK-Rendite | L13: =Cockpit!$L$12/Cockpit!$F$9 -> 0.34247525
B14: Nebenkosten Grundstück | C14: =SUM(Cockpit!$C$10:$C$13)*Cockpit!$C$9 -> 9052.5 | E14: Betrag | F14: 150000 | H14: Jahresnettokaltmiete Wohnungen | I14: =Cockpit!$I$10*Cockpit!$I$13*12 -> 17690.4
B15: Summe Grundstück | C15: =Cockpit!$C$9+Cockpit!$C$14 -> 84052.5 | E15: Zinssatz | F15: 0.0246 | H15: Anzahl Stellplätze | I15: 1 | K15: ="Ergebnis Jahr 1 bis "&TEXT(Cockpit!$L$21,"0")&" (kumuliert)" -> Ergebnis Jahr 1 bis 10 (kumuliert)
E16: Laufzeit | F16: 35 | H16: Miete je Stellplatz / Monat | I16: 60 | K16: kum. Cashflow nach Steuern | L16: =INDEX(Jahresverlauf!$L$6:$L$40,MATCH(Cockpit!$L$21,Jahresverlauf!$A$6:$A$40,0)) -> 58160.675
B17: Haus | E17: Annuität p.a. | F17: =IF(Cockpit!$F$14<=0,0,Cockpit!$F$14*Cockpit!$F$15/(1-(1+Cockpit!$F$15)^-Cockpit!$F$16)) -> 6441.668 | H17: Jahresnettokaltmiete gesamt (Jahr 1) | I17: =Cockpit!$I$14+Cockpit!$I$15*Cockpit!$I$16*12 -> 18410.4 | K17: kum. Cashflow + Tilgung nach Steuern | L17: =Cockpit!$L$16+SUMIF(Jahresverlauf!$A$6:$A$40,"<="&Cockpit!$L$21,Jahresverlauf!$F$6:$F$40) -> 133547.95
B18: Haus schlüsselfertig | C18: 269400 | H18: Mietsteigerung p.a. | I18: 0.025 | K18: Ø EK-Rendite p.a. (inkl. Tilgung) | L18: =Cockpit!$L$17/Cockpit!$L$21/Cockpit!$F$9 -> 0.24281445
B19: Zusätzliche Leistungen | C19: 23471 | E19: Bankdarlehen
B20: Architekt / Planung | C20: 6000 | E20: Betrag | F20: =MAX(0,Cockpit!$F$10-Cockpit!$F$14) -> 273698.5 | H20: Erlös Photovoltaik (steuerfrei) | K20: ="Verkauf in Jahr "&TEXT(Cockpit!$L$21+1,"0") -> Verkauf in Jahr 11
B21: Thermo-Bodenplatte | C21: 22155 | E21: Zinssatz | F21: 0.04 | H21: Erlös je kWh | I21: 0.09 | K21: Haltedauer | L21: 10
B22: Baunebenkosten (inklusive Erdarbeiten) | C22: 32000 | E22: Laufzeit | F22: 35 | H22: PV-Erlös p.a. | I22: =IF(Cockpit!$C$33="Ja",Cockpit!$C$35*Cockpit!$I$21,0) -> 561.6 | K22: Wertbasis (ohne KNK und PV) | L22: =Cockpit!$C$38-Cockpit!$C$14-Cockpit!$C$36 -> 456026
B23: Allgemeine Reserve | C23: 8000 | E23: Annuität p.a. | F23: =IF(Cockpit!$F$20<=0,0,Cockpit!$F$20*Cockpit!$F$21/(1-(1+Cockpit!$F$21)^-Cockpit!$F$22)) -> 14664.033 | K23: Wertsteigerung p.a. | L23: 0.01
B24: Küche / Möbel | C24: 0 | H24: Bewirtschaftung (nicht umlagefähig) | K24: Wert nach Wertsteigerung | L24: =Cockpit!$L$22*(1+Cockpit!$L$23)^Cockpit!$L$21 -> 503736.41
B25: Summe Haus | C25: =SUM(Cockpit!$C$18:$C$24) -> 361026 | E25: Finanzierung gesamt | H25: Verwaltung je WE / Jahr | I25: 360
E26: Annuität gesamt p.a. | F26: =Cockpit!$F$17+Cockpit!$F$23 -> 21105.701 | H26: Instandhaltung je m² / Jahr (Jahr 1–15) | I26: 5 | K26: Validierung: Maximaler Mietfaktor | L26: 22
B27: Außenanlagen und Stellplätze | E27: Ø-Mischzins (nachrichtlich) | F27: =(Cockpit!$F$20*Cockpit!$F$21+Cockpit!$F$14*Cockpit!$F$15)/Cockpit!$F$10 -> 0.03454801 | H27: Instandhaltung je m² / Jahr (Jahr 16–30) | I27: 15 | K27: Wert nach maximalem Mietfaktor | L27: =Cockpit!$L$26*INDEX(Jahresverlauf!$B$6:$B$40,MATCH(Cockpit!$L$21,Jahresverlauf!$A$6:$A$40,0)) -> 505825.47
B28: Außenanlagen + Stellplätze | C28: 20000 | H28: Instandhaltung je m² / Jahr (ab Jahr 31) | I28: 25 | K28: Konservativerer Marktwert | L28: =MIN(Cockpit!$L$24,Cockpit!$L$27) -> 503736.41
B29: Garage / Carport (inkl. Fundament) | C29: 0 | E29: Steuer | H29: Sonstige nicht umlagefähige Kosten | I29: 0
B30: Summe Außenanlagen und Stellplätze | C30: =Cockpit!$C$28+Cockpit!$C$29 -> 20000 | E30: Grenzsteuersatz | F30: 0.42 | H30: Mietausfallwagnis | I30: 0.02 | K30: + PV-Anlage Restwert | L30: =Cockpit!$C$36*MAX(0,1-Cockpit!$L$21/40) -> 10215
E31: Solidaritätszuschlag (% der Steuer) | F31: 0.055 | H31: Kostensteigerung p.a. | I31: 0.025 | K31: ./. Restschuld Darlehen | L31: =-INDEX(Jahresverlauf!$M$6:$M$40,MATCH(Cockpit!$L$21,Jahresverlauf!$A$6:$A$40,0)) -> -348311.23
B32: Photovoltaikanlage | E32: Kirchensteuer (% der Steuer) | F32: 0 | H32: Nicht umlagefähige Bew.-Kosten (Jahr 1) | I32: =Cockpit!$I$25*Cockpit!$I$9+Cockpit!$I$26*Cockpit!$I$10+Cockpit!$I$29+Cockpit!$I$30*Cockpit!$I$17 -> 1274.208 | K32: ./. Steuer §23 (0 ab 10 J.) | L32: =-IF(Cockpit!$L$21>=10,0,(Cockpit!$L$28+Cockpit!$L$30-Cockpit!$C$38+INDEX(Jahresverlauf!$O$6:$O$40,MATCH(Cockpit!$L$21,Jahresverlauf!$A$6:$A$40,0))+INDEX(Jahresverlauf!$P$6:$P$40,MATCH(Cockpit!$L$21,Jahresverlauf!$A$6:$A$40,0))+INDEX(Jahresverlauf!$V$6:$V$40,MATCH(Cockpit!$L$21,Jahresverlauf!$A$6:$A$40,0)))*Cockpit!$F$33) -> 0
B33: PV-Anlage einrechnen? | C33: Ja | E33: Effektiver Steuersatz | F33: =Cockpit!$F$30*(1+Cockpit!$F$31+Cockpit!$F$32) -> 0.4431 | K33: Cashflow aus Verkauf nach Steuern | L33: =Cockpit!$L$28+Cockpit!$L$30+Cockpit!$L$31+Cockpit!$L$32 -> 165640.18
B34: Anschaffungskosten | C34: 13620
B35: Anlagengröße (Ertrag kWh/Jahr) | C35: 6240 | E35: Abschreibung (AfA) | K35: =_xlfn.CONCAT("+ kumulierter Cashflow n. Steuern (Jahr 1 -",L21,")") -> + kumulierter Cashflow n. Steuern (Jahr 1 -10) | L35: =Cockpit!$L$16 -> 58160.675
B36: Summe Photovoltaikanlage | C36: =IF(Cockpit!$C$33="Ja",Cockpit!$C$34,0) -> 13620 | E36: AfA-Methode (5 % degr. / 3 % lin.) | F36: degressiv | K36: ./. eingesetztes Eigenkapital | L36: =-Cockpit!$F$9 -> -55000
E37: Gebäude-AfA-Basis (Haus + Bau-NK + Garage) | F37: =SUM(Cockpit!$C$18:$C$23)+Cockpit!$C$29 -> 361026
B38: GESAMTINVESTITION | C38: =Cockpit!$C$15+Cockpit!$C$25+Cockpit!$C$30+Cockpit!$C$36 -> 478698.5 | E38: Baukosten pro m² (Grenze 5.200 €) | F38: =(Cockpit!$F$37-Cockpit!$C$29)/Cockpit!$I$10 -> 3306.0989 | K38: ="VERMÖGENSZUWACHS JAHR 1 – "&TEXT(Cockpit!$L$21+1,"0") -> VERMÖGENSZUWACHS JAHR 1 – 11 | L38: =Cockpit!$L$33+Cockpit!$L$36+Cockpit!$L$35 -> 168800.85
E39: 5.200-€-Grenze eingehalten? | F39: =IF(Cockpit!$F$38<=5200,"OK","GRENZE!") -> OK | K39: Interner Zinsfuß (IRR, inkl. Verkauf) | L39: =IRR(Jahresverlauf!$Q$5:$Q$40) -> 0.22088797
E40: § 7b Sonder-AfA aktiv (QNG)? | F40: Ja | K40: Eigenkapital Multiplikator | L40: =(Cockpit!$L$38+Cockpit!$F$9)/Cockpit!$F$9 -> 4.0691065
E41: § 7b Satz p.a. | F41: 0.05
E42: § 7b Dauer | F42: 4
E43: § 7b Grenze €/m² | F43: 4000
...

Sheet Report
B1: NEUBAU INVESTMENT AUF EINEN BLICK
B3: =Cockpit!$B$4 -> DHH Partner 116W; Musterstraße 1, 44135 Dortmund | K3: =Cockpit!$L$4 -> 46266
B4: GESAMTINVESTITION | E4: FINANZIERUNG | H4: EINNAHMEN P.A. | K4: CASHFLOW NACH STEUERN
B5: Grundstück | C5: =Cockpit!$C$15 -> 84052.5 | E5: Eigenkapital | F5: =Cockpit!$F$9 -> 55000 | H5: Wohnungsmiete | I5: =Cockpit!$I$14 -> 17690.4 | K5: Einnahmen aus Vermietung und PV | L5: =Cockpit!$I$17+Cockpit!$I$22 -> 18972
B6: Haus | C6: =Cockpit!$C$25 -> 361026 | E6: Förderdarlehen (KfW) | F6: =Cockpit!$F$14 -> 150000 | H6: Stellplätze | I6: =Cockpit!$I$15*Cockpit!$I$16*12 -> 720 | K6: + Steuervorteil Neubauförderung (Erstattung) | L6: =-Jahresverlauf!$J$6 -> 15776.287
B7: Außenanlagen und Stellplätze | C7: =Cockpit!$C$30 -> 20000 | E7: Bankdarlehen | F7: =Cockpit!$F$20 -> 273698.5 | H7: Photovoltaik (steuerfrei) | I7: =Cockpit!$I$22 -> 561.6 | K7: ./. Bewirtschaftung | L7: =-Jahresverlauf!$D$6 -> -1274.208
B8: Photovoltaikanlage | C8: =Cockpit!$C$36 -> 13620 | K8: ./. Kapitaldienst (Zinsen + Tilgung) | L8: =-(Jahresverlauf!$E$6+Jahresverlauf!$F$6) -> -21105.701
B9: GESAMTINVESTITION | C9: =Cockpit!$C$38 -> 478698.5 | E9: GESAMTFINANZIERUNG | F9: =Cockpit!$C$38 -> 478698.5 | H9: EINNAHMEN GESAMT | I9: =Cockpit!$I$17+Cockpit!$I$22 -> 18972 | K9: CASHFLOW NACH STEUERN | L9: =Jahresverlauf!$K$6 -> 12368.378
B27: OBJEKT | H27: KENNZAHLEN
B28: Vermietbare Wohnfläche | C28: =Cockpit!$I$10 -> 109.2 | E28: Kaltmiete je m² / Monat | F28: =Cockpit!$I$13 -> 13.5 | H28: Bruttomietrendite | I28: =Cockpit!$L$9 -> 0.040371382 | K28: ="Marktwert inkl. PV in Jahr "&TEXT(Cockpit!$L$21+1,"0") -> Marktwert inkl. PV in Jahr 11 | L28: =Cockpit!$L$28+Cockpit!$L$30 -> 513951.41
B29: Wohneinheiten | C29: =Cockpit!$I$9 -> 1 | E29: Jahresnettokaltmiete (Jahr 1) | F29: =Cockpit!$I$17 -> 18410.4 | H29: Anfängliche Eigenkapital-Rendite | I29: =Cockpit!$L$13 -> 0.34247525 | K29: ="Restschuld in Jahr "&TEXT(Cockpit!$L$21+1,"0") -> Restschuld in Jahr 11 | L29: =-Cockpit!$L$31 -> 348311.23
B30: Stellplätze | C30: =Cockpit!$I$15 -> 1 | E30: PV-Erlöse (Jahr 1) | F30: =Jahresverlauf!C6 -> 561.6 | H30: Cashflow nach Steuern (Jahr 1) | I30: =Cockpit!$L$11 -> 12368.378 | K30: ="Freies Vermögen in Jahr "&TEXT(Cockpit!$L$21+1,"0") -> Freies Vermögen in Jahr 11 | L30: =Report!$L$28-Report!$L$29 -> 165640.18
H31: ="kum. Cashflow nach St. ("&TEXT(Cockpit!$L$21,"0")&" Jahre)" -> kum. Cashflow nach St. (10 Jahre) | I31: =Cockpit!$L$16 -> 58160.675 | K31: Vermögenszuwachs Jahr 1-11 | L31: =Cockpit!L38 -> 168800.85

Sheet Jahresverlauf
B1: Jahresverlauf der Kennzahlen
B2: ← zurück zum Cockpit
O3: Nebenrechnung (AfA-Detail · IRR-Cashflow · Darlehen KfW/Bank)
A4: Jahr | B4: Miete | C4: PV-Erlös (steuerfrei) | D4: Bewirt- schaftung | E4: Zinsen | F4: Tilgung | G4: Cashflow VOR Steuer | H4: AfA gesamt | I4: zu ver- steuern | J4: Steuer | K4: Cashflow n. Steuer | L4: kum. CF n. Steuer | M4: Restschuld | N4: Immobilien- wert | O4: kum. AfA Geb.+§7b | P4: kum. AfA Außenanl. | Q4: IRR- Cashflow | R4: AfA §7b | S4: AfA Gebäude | T4: AfA Außenanl. | U4: AfA Küche/Möbel | V4: kum. Küche | W4: Zins KfW | X4: Tilgung KfW | Y4: Restschuld KfW | Z4: Zins Bank | AA4: Tilgung Bank | AB4: Restschuld Bank | AC4: IRR-Cashflow ohne Verkauf
A5: 0 | Q5: =-Cockpit!$F$9 -> -55000 | AC5: =-Cockpit!$F$9 -> -55000
A6: 1 | B6: =Cockpit!$I$17*(1+Cockpit!$I$18)^(A6-1) -> 18410.4 | C6: =IF(Cockpit!$C$33="Ja",Cockpit!$I$22,0) -> 561.6 | D6: =(Cockpit!$I$25*Cockpit!$I$9+IF(A6<=15,Cockpit!$I$26,IF(A6<=30,Cockpit!$I$27,Cockpit!$I$28))*Cockpit!$I$10+Cockpit!$I$29)*(1+Cockpit!$I$31)^(A6-1)+Cockpit!$I$30*B6 -> 1274.208 | E6: =W6+Z6 -> 14637.94 | F6: =X6+AA6 -> 6467.7608 | G6: =B6+C6-D6-E6-F6 -> -3407.9088 | H6: =R6+S6+T6+U6 -> 38102.6 | I6: =B6-D6-E6-H6 -> -35604.348 | J6: =I6*Cockpit!$F$33 -> -15776.287 | K6: =G6-J6 -> 12368.378 | L6: =0+K6 -> 12368.378 | M6: =Y6+AB6 -> 417230.74 | N6: =MIN(Cockpit!$L$22*(1+Cockpit!$L$23)^A6,Cockpit!$L$26*B6)+Cockpit!$C$36*MAX(0,1-A6/40) -> 418308.3 | O6: =0+R6+S6 -> 36102.6 | P6: =0+T6 -> 2000 | Q6: =IF(A6>Cockpit!$L$21,0,IF(A6=Cockpit!$L$21,K6+Cockpit!$L$33,K6)) -> 12368.378 | R6: =IF(AND(A6<=Cockpit!$F$42,Cockpit!$F$40="Ja"),Cockpit!$F$41*Cockpit!$F$44,0) -> 18051.3 | S6: =IF(Cockpit!$F$36="degressiv",MAX(0,MIN(0.05*Cockpit!$F$37,Cockpit!$F$37-R6)),MIN(0.03*Cockpit!$F$37,MAX(0,Cockpit!$F$37-R6))) -> 18051.3 | T6: =MIN(Cockpit!$F$45*Cockpit!$C$28,MAX(0,Cockpit!$C$28-0)) -> 2000 | U6: =IF(Cockpit!$F$46>0,MIN(Cockpit!$C$24*Cockpit!$F$46,MAX(0,Cockpit!$C$24-0)),0) -> 0 | V6: =0+U6 -> 0 | W6: =Cockpit!$F$14*Cockpit!$F$15 -> 3690 | X6: =MIN(Cockpit!$F$17-W6,Cockpit!$F$14) -> 2751.668 | Y6: =Cockpit!$F$14-X6 -> 147248.33 | Z6: =Cockpit!$F$20*Cockpit!$F$21 -> 10947.94 | AA6: =MIN(Cockpit!$F$23-Z6,Cockpit!$F$20) -> 3716.0928 | AB6: =Cockpit!$F$20-AA6 -> 269982.41 | AC6: =IF(A6>Cockpit!$L$21,0,K6) -> 12368.378
A7: 2 | B7: =Cockpit!$I$17*(1+Cockpit!$I$18)^(A7-1) -> 18870.66 | C7: =IF(Cockpit!$C$33="Ja",Cockpit!$I$22,0) -> 561.6 | D7: =(Cockpit!$I$25*Cockpit!$I$9+IF(A7<=15,Cockpit!$I$26,IF(A7<=30,Cockpit!$I$27,Cockpit!$I$28))*Cockpit!$I$10+Cockpit!$I$29)*(1+Cockpit!$I$31)^(A7-1)+Cockpit!$I$30*B7 -> 1306.0632 | E7: =W7+Z7 -> 14421.605 | F7: =X7+AA7 -> 6684.0955 | G7: =B7+C7-D7-E7-F7 -> -2979.504 | H7: =R7+S7+T7+U7 -> 37200.035 | I7: =B7-D7-E7-H7 -> -34057.043 | J7: =I7*Cockpit!$F$33 -> -15090.676 | K7: =G7-J7 -> 12111.172 | L7: =L6+K7 -> 24479.55 | M7: =Y7+AB7 -> 410546.64 | N7: =MIN(Cockpit!$L$22*(1+Cockpit!$L$23)^A7,Cockpit!$L$26*B7)+Cockpit!$C$36*MAX(0,1-A7/40) -> 428093.52 | O7: =O6+R7+S7 -> 71302.635 | P7: =P6+T7 -> 4000 | Q7: =IF(A7>Cockpit!$L$21,0,IF(A7=Cockpit!$L$21,K7+Cockpit!$L$33,K7)) -> 12111.172 | R7: =IF(AND(A7<=Cockpit!$F$42,Cockpit!$F$40="Ja"),Cockpit!$F$41*Cockpit!$F$44,0) -> 18051.3 | S7: =IF(Cockpit!$F$36="degressiv",MAX(0,MIN(0.05*(Cockpit!$F$37-O6+IF(A7<=Cockpit!$F$42,(A7-1)*R7,0)),Cockpit!$F$37-O6-R7)),IF(OR(Cockpit!$F$40<>"Ja",Cockpit!$F$42<=0,A7<=Cockpit!$F$42),MIN(0.03*Cockpit!$F$37,MAX(0,Cockpit!$F$37-O6-R7)),MIN((Cockpit!$F$37-Cockpit!$F$42*(0.03*Cockpit!$F$37+Cockpit!$F$41*Cockpit!$F$44))/MAX(1,ROUNDDOWN(1/0.03,0)-Cockpit!$F$42),MAX(0,Cockpit!$F$37-O6-R7)))) -> 17148.735 | T7: =MIN(Cockpit!$F$45*Cockpit!$C$28,MAX(0,Cockpit!$C$28-P6)) -> 2000 | U7: =IF(Cockpit!$F$46>0,MIN(Cockpit!$C$24*Cockpit!$F$46,MAX(0,Cockpit!$C$24-V6)),0) -> 0 | V7: =V6+U7 -> 0 | W7: =Y6*Cockpit!$F$15 -> 3622.309 | X7: =MIN(Cockpit!$F$17-W7,Y6) -> 2819.359 | Y7: =Y6-X7 -> 144428.97 | Z7: =AB6*Cockpit!$F$21 -> 10799.296 | AA7: =MIN(Cockpit!$F$23-Z7,AB6) -> 3864.7365 | AB7: =AB6-AA7 -> 266117.67 | AC7: =IF(A7>Cockpit!$L$21,0,K7) -> 12111.172
A8: 3 | B8: =Cockpit!$I$17*(1+Cockpit!$I$18)^(A8-1) -> 19342.427 | C8: =IF(Cockpit!$C$33="Ja",Cockpit!$I$22,0) -> 561.6 | D8: =(Cockpit!$I$25*Cockpit!$I$9+IF(A8<=15,Cockpit!$I$26,IF(A8<=30,Cockpit!$I$27,Cockpit!$I$28))*Cockpit!$I$10+Cockpit!$I$29)*(1+Cockpit!$I$31)^(A8-1)+Cockpit!$I$30*B8 -> 1338.7148 | E8: =W8+Z8 -> 14197.66 | F8: =X8+AA8 -> 6908.0412 | G8: =B8+C8-D8-E8-F8 -> -2540.3891 | H8: =R8+S8+T8+U8 -> 36342.598 | I8: =B8-D8-E8-H8 -> -32536.546 | J8: =I8*Cockpit!$F$33 -> -14416.944 | K8: =G8-J8 -> 11876.555 | L8: =L7+K8 -> 36356.104 | M8: =Y8+AB8 -> 403638.6 | N8: =MIN(Cockpit!$L$22*(1+Cockpit!$L$23)^A8,Cockpit!$L$26*B8)+Cockpit!$C$36*MAX(0,1-A8/40) -> 438131.88 | O8: =O7+R8+S8 -> 105645.23 | P8: =P7+T8 -> 6000 | Q8: =IF(A8>Cockpit!$L$21,0,IF(A8=Cockpit!$L$21,K8+Cockpit!$L$33,K8)) -> 11876.555 | R8: =IF(AND(A8<=Cockpit!$F$42,Cockpit!$F$40="Ja"),Cockpit!$F$41*Cockpit!$F$44,0) -> 18051.3 | S8: =IF(Cockpit!$F$36="degressiv",MAX(0,MIN(0.05*(Cockpit!$F$37-O7+IF(A8<=Cockpit!$F$42,(A8-1)*R8,0)),Cockpit!$F$37-O7-R8)),IF(OR(Cockpit!$F$40<>"Ja",Cockpit!$F$42<=0,A8<=Cockpit!$F$42),MIN(0.03*Cockpit!$F$37,MAX(0,Cockpit!$F$37-O7-R8)),MIN((Cockpit!$F$37-Cockpit!$F$42*(0.03*Cockpit!$F$37+Cockpit!$F$41*Cockpit!$F$44))/MAX(1,ROUNDDOWN(1/0.03,0)-Cockpit!$F$42),MAX(0,Cockpit!$F$37-O7-R8)))) -> 16291.298 | T8: =MIN(Cockpit!$F$45*Cockpit!$C$28,MAX(0,Cockpit!$C$28-P7)) -> 2000 | U8: =IF(Cockpit!$F$46>0,MIN(Cockpit!$C$24*Cockpit!$F$46,MAX(0,Cockpit!$C$24-V7)),0) -> 0 | V8: =V7+U8 -> 0 | W8: =Y7*Cockpit!$F$15 -> 3552.9527 | X8: =MIN(Cockpit!$F$17-W8,Y7) -> 2888.7153 | Y8: =Y7-X8 -> 141540.26 | Z8: =AB7*Cockpit!$F$21 -> 10644.707 | AA8: =MIN(Cockpit!$F$23-Z8,AB7) -> 4019.3259 | AB8: =AB7-AA8 -> 262098.34 | AC8: =IF(A8>Cockpit!$L$21,0,K8) -> 11876.555
A9: 4 | B9: =Cockpit!$I$17*(1+Cockpit!$I$18)^(A9-1) -> 19825.987 | C9: =IF(Cockpit!$C$33="Ja",Cockpit!$I$22,0) -> 561.6 | D9: =(Cockpit!$I$25*Cockpit!$I$9+IF(A9<=15,Cockpit!$I$26,IF(A9<=30,Cockpit!$I$27,Cockpit!$I$28))*Cockpit!$I$10+Cockpit!$I$29)*(1+Cockpit!$I$31)^(A9-1)+Cockpit!$I$30*B9 -> 1372.1826 | E9: =W9+Z9 -> 13965.824 | F9: =X9+AA9 -> 7139.8766 | G9: =B9+C9-D9-E9-F9 -> -2090.2963 | H9: =R9+S9+T9+U9 -> 35528.033 | I9: =B9-D9-E9-H9 -> -31040.053 | J9: =I9*Cockpit!$F$33 -> -13753.847 | K9: =G9-J9 -> 11663.551 | L9: =L8+K9 -> 48019.656 | M9: =Y9+AB9 -> 396498.73 | N9: =MIN(Cockpit!$L$22*(1+Cockpit!$L$23)^A9,Cockpit!$L$26*B9)+Cockpit!$C$36*MAX(0,1-A9/40) -> 448429.72 | O9: =O8+R9+S9 -> 139173.27 | P9: =P8+T9 -> 8000 | Q9: =IF(A9>Cockpit!$L$21,0,IF(A9=Cockpit!$L$21,K9+Cockpit!$L$33,K9)) -> 11663.551 | R9: =IF(AND(A9<=Cockpit!$F$42,Cockpit!$F$40="Ja"),Cockpit!$F$41*Cockpit!$F$44,0) -> 18051.3 | S9: =IF(Cockpit!$F$36="degressiv",MAX(0,MIN(0.05*(Cockpit!$F$37-O8+IF(A9<=Cockpit!$F$42,(A9-1)*R9,0)),Cockpit!$F$37-O8-R9)),IF(OR(Cockpit!$F$40<>"Ja",Cockpit!$F$42<=0,A9<=Cockpit!$F$42),MIN(0.03*Cockpit!$F$37,MAX(0,Cockpit!$F$37-O8-R9)),MIN((Cockpit!$F$37-Cockpit!$F$42*(0.03*Cockpit!$F$37+Cockpit!$F$41*Cockpit!$F$44))/MAX(1,ROUNDDOWN(1/0.03,0)-Cockpit!$F$42),MAX(0,Cockpit!$F$37-O8-R9)))) -> 15476.733 | T9: =MIN(Cockpit!$F$45*Cockpit!$C$28,MAX(0,Cockpit!$C$28-P8)) -> 2000 | U9: =IF(Cockpit!$F$46>0,MIN(Cockpit!$C$24*Cockpit!$F$46,MAX(0,Cockpit!$C$24-V8)),0) -> 0 | V9: =V8+U9 -> 0 | W9: =Y8*Cockpit!$F$15 -> 3481.8903 | X9: =MIN(Cockpit!$F$17-W9,Y8) -> 2959.7777 | Y9: =Y8-X9 -> 138580.48 | Z9: =AB8*Cockpit!$F$21 -> 10483.934 | AA9: =MIN(Cockpit!$F$23-Z9,AB8) -> 4180.099 | AB9: =AB8-AA9 -> 257918.25 | AC9: =IF(A9>Cockpit!$L$21,0,K9) -> 11663.551
A10: 5 | B10: =Cockpit!$I$17*(1+Cockpit!$I$18)^(A10-1) -> 20321.637 | C10: =IF(Cockpit!$C$33="Ja",Cockpit!$I$22,0) -> 561.6 | D10: =(Cockpit!$I$25*Cockpit!$I$9+IF(A10<=15,Cockpit!$I$26,IF(A10<=30,Cockpit!$I$27,Cockpit!$I$28))*Cockpit!$I$10+Cockpit!$I$29)*(1+Cockpit!$I$31)^(A10-1)+Cockpit!$I$30*B10 -> 1406.4872 | E10: =W10+Z10 -> 13725.81 | F10: =X10+AA10 -> 7379.8911 | G10: =B10+C10-D10-E10-F10 -> -1628.9511 | H10: =R10+S10+T10+U10 -> 13092.637 | I10: =B10-D10-E10-H10 -> -7903.2967 | J10: =I10*Cockpit!$F$33 -> -3501.9508 | K10: =G10-J10 -> 1872.9996 | L10: =L9+K10 -> 49892.655 | M10: =Y10+AB10 -> 389118.83 | N10: =MIN(Cockpit!$L$22*(1+Cockpit!$L$23)^A10,Cockpit!$L$26*B10)+Cockpit!$C$36*MAX(0,1-A10/40) -> 458993.51 | O10: =O9+R10+S10 -> 150265.9 | P10: =P9+T10 -> 10000 | Q10: =IF(A10>Cockpit!$L$21,0,IF(A10=Cockpit!$L$21,K10+Cockpit!$L$33,K10)) -> 1872.9996 | R10: =IF(AND(A10<=Cockpit!$F$42,Cockpit!$F$40="Ja"),Cockpit!$F$41*Cockpit!$F$44,0) -> 0 | S10: =IF(Cockpit!$F$36="degressiv",MAX(0,MIN(0.05*(Cockpit!$F$37-O9+IF(A10<=Cockpit!$F$42,(A10-1)*R10,0)),Cockpit!$F$37-O9-R10)),IF(OR(Cockpit!$F$40<>"Ja",Cockpit!$F$42<=0,A10<=Cockpit!$F$42),MIN(0.03*Cockpit!$F$37,MAX(0,Cockpit!$F$37-O9-R10)),MIN((Cockpit!$F$37-Cockpit!$F$42*(0.03*Cockpit!$F$37+Cockpit!$F$41*Cockpit!$F$44))/MAX(1,ROUNDDOWN(1/0.03,0)-Cockpit!$F$42),MAX(0,Cockpit!$F$37-O9-R10)))) -> 11092.637 | T10: =MIN(Cockpit!$F$45*Cockpit!$C$28,MAX(0,Cockpit!$C$28-P9)) -> 2000 | U10: =IF(Cockpit!$F$46>0,MIN(Cockpit!$C$24*Cockpit!$F$46,MAX(0,Cockpit!$C$24-V9)),0) -> 0 | V10: =V9+U10 -> 0 | W10: =Y9*Cockpit!$F$15 -> 3409.0798 | X10: =MIN(Cockpit!$F$17-W10,Y9) -> 3032.5882 | Y10: =Y9-X10 -> 135547.89 | Z10: =AB9*Cockpit!$F$21 -> 10316.73 | AA10: =MIN(Cockpit!$F$23-Z10,AB9) -> 4347.3029 | AB10: =AB9-AA10 -> 253570.94 | AC10: =IF(A10>Cockpit!$L$21,0,K10) -> 1872.9996
A11: 6 | B11: =Cockpit!$I$17*(1+Cockpit!$I$18)^(A11-1) -> 20829.678 | C11: =IF(Cockpit!$C$33="Ja",Cockpit!$I$22,0) -> 561.6 | D11: =(Cockpit!$I$25*Cockpit!$I$9+IF(A11<=15,Cockpit!$I$26,IF(A11<=30,Cockpit!$I$27,Cockpit!$I$28))*Cockpit!$I$10+Cockpit!$I$29)*(1+Cockpit!$I$31)^(A11-1)+Cockpit!$I$30*B11 -> 1441.6494 | E11: =W11+Z11 -> 13477.316 | F11: =X11+AA11 -> 7628.3849 | G11: =B11+C11-D11-E11-F11 -> -1156.0724 | H11: =R11+S11+T11+U11 -> 12538.005 | I11: =B11-D11-E11-H11 -> -6627.2923 | J11: =I11*Cockpit!$F$33 -> -2936.5532 | K11: =G11-J11 -> 1780.4808 | L11: =L10+K11 -> 51673.136 | M11: =Y11+AB11 -> 381490.45 | N11: =MIN(Cockpit!$L$22*(1+Cockpit!$L$23)^A11,Cockpit!$L$26*B11)+Cockpit!$C$36*MAX(0,1-A11/40) -> 469829.91 | O11: =O10+R11+S11 -> 160803.91 | P11: =P10+T11 -> 12000 | Q11: =IF(A11>Cockpit!$L$21,0,IF(A11=Cockpit!$L$21,K11+Cockpit!$L$33,K11)) -> 1780.4808 | R11: =IF(AND(A11<=Cockpit!$F$42,Cockpit!$F$40="Ja"),Cockpit!$F$41*Cockpit!$F$44,0) -> 0 | S11: =IF(Cockpit!$F$36="degressiv",MAX(0,MIN(0.05*(Cockpit!$F$37-O10+IF(A11<=Cockpit!$F$42,(A11-1)*R11,0)),Cockpit!$F$37-O10-R11)),IF(OR(Cockpit!$F$40<>"Ja",Cockpit!$F$42<=0,A11<=Cockpit!$F$42),MIN(0.03*Cockpit!$F$37,MAX(0,Cockpit!$F$37-O10-R11)),MIN((Cockpit!$F$37-Cockpit!$F$42*(0.03*Cockpit!$F$37+Cockpit!$F$41*Cockpit!$F$44))/MAX(1,ROUNDDOWN(1/0.03,0)-Cockpit!$F$42),MAX(0,Cockpit!$F$37-O10-R11)))) -> 10538.005 | T11: =MIN(Cockpit!$F$45*Cockpit!$C$28,MAX(0,Cockpit!$C$28-P10)) -> 2000 | U11: =IF(Cockpit!$F$46>0,MIN(Cockpit!$C$24*Cockpit!$F$46,MAX(0,Cockpit!$C$24-V10)),0) -> 0 | V11: =V10+U11 -> 0 | W11: =Y10*Cockpit!$F$15 -> 3334.4781 | X11: =MIN(Cockpit!$F$17-W11,Y10) -> 3107.1899 | Y11: =Y10-X11 -> 132440.7 | Z11: =AB10*Cockpit!$F$21 -> 10142.838 | AA11: =MIN(Cockpit!$F$23-Z11,AB10) -> 4521.195 | AB11: =AB10-AA11 -> 249049.75 | AC11: =IF(A11>Cockpit!$L$21,0,K11) -> 1780.4808
A12: 7 | B12: =Cockpit!$I$17*(1+Cockpit!$I$18)^(A12-1) -> 21350.42 | C12: =IF(Cockpit!$C$33="Ja",Cockpit!$I$22,0) -> 561.6 | D12: =(Cockpit!$I$25*Cockpit!$I$9+IF(A12<=15,Cockpit!$I$26,IF(A12<=30,Cockpit!$I$27,Cockpit!$I$28))*Cockpit!$I$10+Cockpit!$I$29)*(1+Cockpit!$I$31)^(A12-1)+Cockpit!$I$30*B12 -> 1477.6906 | E12: =W12+Z12 -> 13220.031 | F12: =X12+AA12 -> 7885.6696 | G12: =B12+C12-D12-E12-F12 -> -671.3717 | H12: =R12+S12+T12+U12 -> 12011.105 | I12: =B12-D12-E12-H12 -> -5358.4067 | J12: =I12*Cockpit!$F$33 -> -2374.31 | K12: =G12-J12 -> 1702.9383 | L12: =L11+K12 -> 53376.074 | M12: =Y12+AB12 -> 373604.78 | N12: =MIN(Cockpit!$L$22*(1+Cockpit!$L$23)^A12,Cockpit!$L$26*B12)+Cockpit!$C$36*MAX(0,1-A12/40) -> 480945.73 | O12: =O11+R12+S12 -> 170815.01 | P12: =P11+T12 -> 14000 | Q12: =IF(A12>Cockpit!$L$21,0,IF(A12=Cockpit!$L$21,K12+Cockpit!$L$33,K12)) -> 1702.9383 | R12: =IF(AND(A12<=Cockpit!$F$42,Cockpit!$F$40="Ja"),Cockpit!$F$41*Cockpit!$F$44,0) -> 0 | S12: =IF(Cockpit!$F$36="degressiv",MAX(0,MIN(0.05*(Cockpit!$F$37-O11+IF(A12<=Cockpit!$F$42,(A12-1)*R12,0)),Cockpit!$F$37-O11-R12)),IF(OR(Cockpit!$F$40<>"Ja",Cockpit!$F$42<=0,A12<=Cockpit!$F$42),MIN(0.03*Cockpit!$F$37,MAX(0,Cockpit!$F$37-O11-R12)),MIN((Cockpit!$F$37-Cockpit!$F$42*(0.03*Cockpit!$F$37+Cockpit!$F$41*Cockpit!$F$44))/MAX(1,ROUNDDOWN(1/0.03,0)-Cockpit!$F$42),MAX(0,Cockpit!$F$37-O11-R12)))) -> 10011.105 | T12: =MIN(Cockpit!$F$45*Cockpit!$C$28,MAX(0,Cockpit!$C$28-P11)) -> 2000 | U12: =IF(Cockpit!$F$46>0,MIN(Cockpit!$C$24*Cockpit!$F$46,MAX(0,Cockpit!$C$24-V11)),0) -> 0 | V12: =V11+U12 -> 0 | W12: =Y11*Cockpit!$F$15 -> 3258.0413 | X12: =MIN(Cockpit!$F$17-W12,Y11) -> 3183.6267 | Y12: =Y11-X12 -> 129257.08 | Z12: =AB11*Cockpit!$F$21 -> 9961.9899 | AA12: =MIN(Cockpit!$F$23-Z12,AB11) -> 4702.0429 | AB12: =AB11-AA12 -> 244347.71 | AC12: =IF(A12>Cockpit!$L$21,0,K12) -> 1702.9383
A13: 8 | B13: =Cockpit!$I$17*(1+Cockpit!$I$18)^(A13-1) -> 21884.18 | C13: =IF(Cockpit!$C$33="Ja",Cockpit!$I$22,0) -> 561.6 | D13: =(Cockpit!$I$25*Cockpit!$I$9+IF(A13<=15,Cockpit!$I$26,IF(A13<=30,Cockpit!$I$27,Cockpit!$I$28))*Cockpit!$I$10+Cockpit!$I$29)*(1+Cockpit!$I$31)^(A13-1)+Cockpit!$I$30*B13 -> 1514.6329 | E13: =W13+Z13 -> 12953.632 | F13: =X13+AA13 -> 8152.0685 | G13: =B13+C13-D13-E13-F13 -> -174.55347 | H13: =R13+S13+T13+U13 -> 11510.549 | I13: =B13-D13-E13-H13 -> -4094.6343 | J13: =I13*Cockpit!$F$33 -> -1814.3325 | K13: =G13-J13 -> 1639.779 | L13: =L12+K13 -> 55015.853 | M13: =Y13+AB13 -> 365452.71 | N13: =MIN(Cockpit!$L$22*(1+Cockpit!$L$23)^A13,Cockpit!$L$26*B13)+Cockpit!$C$36*MAX(0,1-A13/40) -> 492347.96 | O13: =O12+R13+S13 -> 180325.56 | P13: =P12+T13 -> 16000 | Q13: =IF(A13>Cockpit!$L$21,0,IF(A13=Cockpit!$L$21,K13+Cockpit!$L$33,K13)) -> 1639.779 | R13: =IF(AND(A13<=Cockpit!$F$42,Cockpit!$F$40="Ja"),Cockpit!$F$41*Cockpit!$F$44,0) -> 0 | S13: =IF(Cockpit!$F$36="degressiv",MAX(0,MIN(0.05*(Cockpit!$F$37-O12+IF(A13<=Cockpit!$F$42,(A13-1)*R13,0)),Cockpit!$F$37-O12-R13)),IF(OR(Cockpit!$F$40<>"Ja",Cockpit!$F$42<=0,A13<=Cockpit!$F$42),MIN(0.03*Cockpit!$F$37,MAX(0,Cockpit!$F$37-O12-R13)),MIN((Cockpit!$F$37-Cockpit!$F$42*(0.03*Cockpit!$F$37+Cockpit!$F$41*Cockpit!$F$44))/MAX(1,ROUNDDOWN(1/0.03,0)-Cockpit!$F$42),MAX(0,Cockpit!$F$37-O12-R13)))) -> 9510.5494 | T13: =MIN(Cockpit!$F$45*Cockpit!$C$28,MAX(0,Cockpit!$C$28-P12)) -> 2000 | U13: =IF(Cockpit!$F$46>0,MIN(Cockpit!$C$24*Cockpit!$F$46,MAX(0,Cockpit!$C$24-V12)),0) -> 0 | V13: =V12+U13 -> 0 | W13: =Y12*Cockpit!$F$15 -> 3179.7241 | X13: =MIN(Cockpit!$F$17-W13,Y12) -> 3261.944 | Y13: =Y12-X13 -> 125995.13 | Z13: =AB12*Cockpit!$F$21 -> 9773.9082 | AA13: =MIN(Cockpit!$F$23-Z13,AB12) -> 4890.1246 | AB13: =AB12-AA13 -> 239457.58 | AC13: =IF(A13>Cockpit!$L$21,0,K13) -> 1639.779
A14: 9 | B14: =Cockpit!$I$17*(1+Cockpit!$I$18)^(A14-1) -> 22431.285 | C14: =IF(Cockpit!$C$33="Ja",Cockpit!$I$22,0) -> 561.6 | D14: =(Cockpit!$I$25*Cockpit!$I$9+IF(A14<=15,Cockpit!$I$26,IF(A14<=30,Cockpit!$I$27,Cockpit!$I$28))*Cockpit!$I$10+Cockpit!$I$29)*(1+Cockpit!$I$31)^(A14-1)+Cockpit!$I$30*B14 -> 1552.4987 | E14: =W14+Z14 -> 12677.783 | F14: =X14+AA14 -> 8427.9173 | G14: =B14+C14-D14-E14-F14 -> 334.68521 | H14: =R14+S14+T14+U14 -> 11035.022 | I14: =B14-D14-E14-H14 -> -2834.0194 | J14: =I14*Cockpit!$F$33 -> -1255.754 | K14: =G14-J14 -> 1590.4392 | L14: =L13+K14 -> 56606.292 | M14: =Y14+AB14 -> 357024.79 | N14: =MIN(Cockpit!$L$22*(1+Cockpit!$L$23)^A14,Cockpit!$L$26*B14)+Cockpit!$C$36*MAX(0,1-A14/40) -> 504043.76 | O14: =O13+R14+S14 -> 189360.58 | P14: =P13+T14 -> 18000 | Q14: =IF(A14>Cockpit!$L$21,0,IF(A14=Cockpit!$L$21,K14+Cockpit!$L$33,K14)) -> 1590.4392 | R14: =IF(AND(A14<=Cockpit!$F$42,Cockpit!$F$40="Ja"),Cockpit!$F$41*Cockpit!$F$44,0) -> 0 | S14: =IF(Cockpit!$F$36="degressiv",MAX(0,MIN(0.05*(Cockpit!$F$37-O13+IF(A14<=Cockpit!$F$42,(A14-1)*R14,0)),Cockpit!$F$37-O13-R14)),IF(OR(Cockpit!$F$40<>"Ja",Cockpit!$F$42<=0,A14<=Cockpit!$F$42),MIN(0.03*Cockpit!$F$37,MAX(0,Cockpit!$F$37-O13-R14)),MIN((Cockpit!$F$37-Cockpit!$F$42*(0.03*Cockpit!$F$37+Cockpit!$F$41*Cockpit!$F$44))/MAX(1,ROUNDDOWN(1/0.03,0)-Cockpit!$F$42),MAX(0,Cockpit!$F$37-O13-R14)))) -> 9035.0219 | T14: =MIN(Cockpit!$F$45*Cockpit!$C$28,MAX(0,Cockpit!$C$28-P13)) -> 2000 | U14: =IF(Cockpit!$F$46>0,MIN(Cockpit!$C$24*Cockpit!$F$46,MAX(0,Cockpit!$C$24-V13)),0) -> 0 | V14: =V13+U14 -> 0 | W14: =Y13*Cockpit!$F$15 -> 3099.4802 | X14: =MIN(Cockpit!$F$17-W14,Y13) -> 3342.1878 | Y14: =Y13-X14 -> 122652.94 | Z14: =AB13*Cockpit!$F$21 -> 9578.3032 | AA14: =MIN(Cockpit!$F$23-Z14,AB13) -> 5085.7295 | AB14: =AB13-AA14 -> 234371.85 | AC14: =IF(A14>Cockpit!$L$21,0,K14) -> 1590.4392
A15: 10 | B15: =Cockpit!$I$17*(1+Cockpit!$I$18)^(A15-1) -> 22992.067 | C15: =IF(Cockpit!$C$33="Ja",Cockpit!$I$22,0) -> 561.6 | D15: =(Cockpit!$I$25*Cockpit!$I$9+IF(A15<=15,Cockpit!$I$26,IF(A15<=30,Cockpit!$I$27,Cockpit!$I$28))*Cockpit!$I$10+Cockpit!$I$29)*(1+Cockpit!$I$31)^(A15-1)+Cockpit!$I$30*B15 -> 1591.3112 | E15: =W15+Z15 -> 12392.136 | F15: =X15+AA15 -> 8713.5643 | G15: =B15+C15-D15-E15-F15 -> 856.65486 | H15: =R15+S15+T15+U15 -> 10583.271 | I15: =B15-D15-E15-H15 -> -1574.6516 | J15: =I15*Cockpit!$F$33 -> -697.72813 | K15: =G15-J15 -> 1554.383 | L15: =L14+K15 -> 58160.675 | M15: =Y15+AB15 -> 348311.23 | N15: =MIN(Cockpit!$L$22*(1+Cockpit!$L$23)^A15,Cockpit!$L$26*B15)+Cockpit!$C$36*MAX(0,1-A15/40) -> 513951.41 | O15: =O14+R15+S15 -> 197943.85 | P15: =P14+T15 -> 20000 | Q15: =IF(A15>Cockpit!$L$21,0,IF(A15=Cockpit!$L$21,K15+Cockpit!$L$33,K15)) -> 167194.56 | R15: =IF(AND(A15<=Cockpit!$F$42,Cockpit!$F$40="Ja"),Cockpit!$F$41*Cockpit!$F$44,0) -> 0 | S15: =IF(Cockpit!$F$36="degressiv",MAX(0,MIN(0.05*(Cockpit!$F$37-O14+IF(A15<=Cockpit!$F$42,(A15-1)*R15,0)),Cockpit!$F$37-O14-R15)),IF(OR(Cockpit!$F$40<>"Ja",Cockpit!$F$42<=0,A15<=Cockpit!$F$42),MIN(0.03*Cockpit!$F$37,MAX(0,Cockpit!$F$37-O14-R15)),MIN((Cockpit!$F$37-Cockpit!$F$42*(0.03*Cockpit!$F$37+Cockpit!$F$41*Cockpit!$F$44))/MAX(1,ROUNDDOWN(1/0.03,0)-Cockpit!$F$42),MAX(0,Cockpit!$F$37-O14-R15)))) -> 8583.2708 | T15: =MIN(Cockpit!$F$45*Cockpit!$C$28,MAX(0,Cockpit!$C$28-P14)) -> 2000 | U15: =IF(Cockpit!$F$46>0,MIN(Cockpit!$C$24*Cockpit!$F$46,MAX(0,Cockpit!$C$24-V14)),0) -> 0 | V15: =V14+U15 -> 0 | W15: =Y14*Cockpit!$F$15 -> 3017.2624 | X15: =MIN(Cockpit!$F$17-W15,Y14) -> 3424.4056 | Y15: =Y14-X15 -> 119228.54 | Z15: =AB14*Cockpit!$F$21 -> 9374.874 | AA15: =MIN(Cockpit!$F$23-Z15,AB14) -> 5289.1587 | AB15: =AB14-AA15 -> 229082.69 | AC15: =IF(A15>Cockpit!$L$21,0,K15) -> 1554.383
A16: 11 | B16: =Cockpit!$I$17*(1+Cockpit!$I$18)^(A16-1) -> 23566.868 | C16: =IF(Cockpit!$C$33="Ja",Cockpit!$I$22,0) -> 561.6 | D16: =(Cockpit!$I$25*Cockpit!$I$9+IF(A16<=15,Cockpit!$I$26,IF(A16<=30,Cockpit!$I$27,Cockpit!$I$28))*Cockpit!$I$10+Cockpit!$I$29)*(1+Cockpit!$I$31)^(A16-1)+Cockpit!$I$30*B16 -> 1631.094 | E16: =W16+Z16 -> 12096.33 | F16: =X16+AA16 -> 9009.3711 | G16: =B16+C16-D16-E16-F16 -> 1391.6738 | H16: =R16+S16+T16+U16 -> 8154.1073 | I16: =B16-D16-E16-H16 -> 1685.3375 | J16: =I16*Cockpit!$F$33 -> 746.77307 | K16: =G16-J16 -> 644.90069 | L16: =L15+K16 -> 58805.576 | M16: =Y16+AB16 -> 339301.86 | N16: =MIN(Cockpit!$L$22*(1+Cockpit!$L$23)^A16,Cockpit!$L$26*B16)+Cockpit!$C$36*MAX(0,1-A16/40) -> 518648.27 | O16: =O15+R16+S16 -> 206097.96 | P16: =P15+T16 -> 20000 | Q16: =IF(A16>Cockpit!$L$21,0,IF(A16=Cockpit!$L$21,K16+Cockpit!$L$33,K16)) -> 0 | R16: =IF(AND(A16<=Cockpit!$F$42,Cockpit!$F$40="Ja"),Cockpit!$F$41*Cockpit!$F$44,0) -> 0 | S16: =IF(Cockpit!$F$36="degressiv",MAX(0,MIN(0.05*(Cockpit!$F$37-O15+IF(A16<=Cockpit!$F$42,(A16-1)*R16,0)),Cockpit!$F$37-O15-R16)),IF(OR(Cockpit!$F$40<>"Ja",Cockpit!$F$42<=0,A16<=Cockpit!$F$42),MIN(0.03*Cockpit!$F$37,MAX(0,Cockpit!$F$37-O15-R16)),MIN((Cockpit!$F$37-Cockpit!$F$42*(0.03*Cockpit!$F$37+Cockpit!$F$41*Cockpit!$F$44))/MAX(1,ROUNDDOWN(1/0.03,0)-Cockpit!$F$42),MAX(0,Cockpit!$F$37-O15-R16)))) -> 8154.1073 | T16: =MIN(Cockpit!$F$45*Cockpit!$C$28,MAX(0,Cockpit!$C$28-P15)) -> 0 | U16: =IF(Cockpit!$F$46>0,MIN(Cockpit!$C$24*Cockpit!$F$46,MAX(0,Cockpit!$C$24-V15)),0) -> 0 | V16: =V15+U16 -> 0 | W16: =Y15*Cockpit!$F$15 -> 2933.022 | X16: =MIN(Cockpit!$F$17-W16,Y15) -> 3508.646 | Y16: =Y15-X16 -> 115719.89 | Z16: =AB15*Cockpit!$F$21 -> 9163.3077 | AA16: =MIN(Cockpit!$F$23-Z16,AB15) -> 5500.7251 | AB16: =AB15-AA16 -> 223581.97 | AC16: =IF(A16>Cockpit!$L$21,0,K16) -> 0
A17: 12 | B17: =Cockpit!$I$17*(1+Cockpit!$I$18)^(A17-1) -> 24156.04 | C17: =IF(Cockpit!$C$33="Ja",Cockpit!$I$22,0) -> 561.6 | D17: =(Cockpit!$I$25*Cockpit!$I$9+IF(A17<=15,Cockpit!$I$26,IF(A17<=30,Cockpit!$I$27,Cockpit!$I$28))*Cockpit!$I$10+Cockpit!$I$29)*(1+Cockpit!$I$31)^(A17-1)+Cockpit!$I$30*B17 -> 1671.8713 | E17: =W17+Z17 -> 11789.988 | F17: =X17+AA17 -> 9315.7127 | G17: =B17+C17-D17-E17-F17 -> 1940.0681 | H17: =R17+S17+T17+U17 -> 7746.4019 | I17: =B17-D17-E17-H17 -> 2947.779 | J17: =I17*Cockpit!$F$33 -> 1306.1609 | K17: =G17-J17 -> 633.90726 | L17: =L16+K17 -> 59439.483 | M17: =Y17+AB17 -> 329986.15 | N17: =MIN(Cockpit!$L$22*(1+Cockpit!$L$23)^A17,Cockpit!$L$26*B17)+Cockpit!$C$36*MAX(0,1-A17/40) -> 523395.51 | O17: =O16+R17+S17 -> 213844.36 | P17: =P16+T17 -> 20000 | Q17: =IF(A17>Cockpit!$L$21,0,IF(A17=Cockpit!$L$21,K17+Cockpit!$L$33,K17)) -> 0 | R17: =IF(AND(A17<=Cockpit!$F$42,Cockpit!$F$40="Ja"),Cockpit!$F$41*Cockpit!$F$44,0) -> 0 | S17: =IF(Cockpit!$F$36="degressiv",MAX(0,MIN(0.05*(Cockpit!$F$37-O16+IF(A17<=Cockpit!$F$42,(A17-1)*R17,0)),Cockpit!$F$37-O16-R17)),IF(OR(Cockpit!$F$40<>"Ja",Cockpit!$F$42<=0,A17<=Cockpit!$F$42),MIN(0.03*Cockpit!$F$37,MAX(0,Cockpit!$F$37-O16-R17)),MIN((Cockpit!$F$37-Cockpit!$F$42*(0.03*Cockpit!$F$37+Cockpit!$F$41*Cockpit!$F$44))/MAX(1,ROUNDDOWN(1/0.03,0)-Cockpit!$F$42),MAX(0,Cockpit!$F$37-O16-R17)))) -> 7746.4019 | T17: =MIN(Cockpit!$F$45*Cockpit!$C$28,MAX(0,Cockpit!$C$28-P16)) -> 0 | U17: =IF(Cockpit!$F$46>0,MIN(Cockpit!$C$24*Cockpit!$F$46,MAX(0,Cockpit!$C$24-V16)),0) -> 0 | V17: =V16+U17 -> 0 | W17: =Y16*Cockpit!$F$15 -> 2846.7093 | X17: =MIN(Cockpit!$F$17-W17,Y16) -> 3594.9587 | Y17: =Y16-X17 -> 112124.93 | Z17: =AB16*Cockpit!$F$21 -> 8943.2787 | AA17: =MIN(Cockpit!$F$23-Z17,AB16) -> 5720.7541 | AB17: =AB16-AA17 -> 217861.21 | AC17: =IF(A17>Cockpit!$L$21,0,K17) -> 0
A18: 13 | B18: =Cockpit!$I$17*(1+Cockpit!$I$18)^(A18-1) -> 24759.941 | C18: =IF(Cockpit!$C$33="Ja",Cockpit!$I$22,0) -> 561.6 | D18: =(Cockpit!$I$25*Cockpit!$I$9+IF(A18<=15,Cockpit!$I$26,IF(A18<=30,Cockpit!$I$27,Cockpit!$I$28))*Cockpit!$I$10+Cockpit!$I$29)*(1+Cockpit!$I$31)^(A18-1)+Cockpit!$I$30*B18 -> 1713.6681 | E18: =W18+Z18 -> 11472.722 | F18: =X18+AA18 -> 9632.9789 | G18: =B18+C18-D18-E18-F18 -> 2502.1723 | H18: =R18+S18+T18+U18 -> 7359.0818 | I18: =B18-D18-E18-H18 -> 4214.4694 | J18: =I18*Cockpit!$F$33 -> 1867.4314 | K18: =G18-J18 -> 634.74094 | L18: =L17+K18 -> 60074.224 | M18: =Y18+AB18 -> 320353.17 | N18: =MIN(Cockpit!$L$22*(1+Cockpit!$L$23)^A18,Cockpit!$L$26*B18)+Cockpit!$C$36*MAX(0,1-A18/40) -> 528193.63 | O18: =O17+R18+S18 -> 221203.45 | P18: =P17+T18 -> 20000 | Q18: =IF(A18>Cockpit!$L$21,0,IF(A18=Cockpit!$L$21,K18+Cockpit!$L$33,K18)) -> 0 | R18: =IF(AND(A18<=Cockpit!$F$42,Cockpit!$F$40="Ja"),Cockpit!$F$41*Cockpit!$F$44,0) -> 0 | S18: =IF(Cockpit!$F$36="degressiv",MAX(0,MIN(0.05*(Cockpit!$F$37-O17+IF(A18<=Cockpit!$F$42,(A18-1)*R18,0)),Cockpit!$F$37-O17-R18)),IF(OR(Cockpit!$F$40<>"Ja",Cockpit!$F$42<=0,A18<=Cockpit!$F$42),MIN(0.03*Cockpit!$F$37,MAX(0,Cockpit!$F$37-O17-R18)),MIN((Cockpit!$F$37-Cockpit!$F$42*(0.03*Cockpit!$F$37+Cockpit!$F$41*Cockpit!$F$44))/MAX(1,ROUNDDOWN(1/0.03,0)-Cockpit!$F$42),MAX(0,Cockpit!$F$37-O17-R18)))) -> 7359.0818 | T18: =MIN(Cockpit!$F$45*Cockpit!$C$28,MAX(0,Cockpit!$C$28-P17)) -> 0 | U18: =IF(Cockpit!$F$46>0,MIN(Cockpit!$C$24*Cockpit!$F$46,MAX(0,Cockpit!$C$24-V17)),0) -> 0 | V18: =V17+U18 -> 0 | W18: =Y17*Cockpit!$F$15 -> 2758.2734 | X18: =MIN(Cockpit!$F$17-W18,Y17) -> 3683.3946 | Y18: =Y17-X18 -> 108441.54 | Z18: =AB17*Cockpit!$F$21 -> 8714.4485 | AA18: =MIN(Cockpit!$F$23-Z18,AB17) -> 5949.5842 | AB18: =AB17-AA18 -> 211911.63 | AC18: =IF(A18>Cockpit!$L$21,0,K18) -> 0
... A40: 35 | B40: =Cockpit!$I$17*(1+Cockpit!$I$18)^(A40-1) -> 42626.007 | C40: =IF(Cockpit!$C$33="Ja",Cockpit!$I$22,0) -> 561.6 | D40: =(Cockpit!$I$25*Cockpit!$I$9+IF(A40<=15,Cockpit!$I$26,IF(A40<=30,Cockpit!$I$27,Cockpit!$I$28))*Cockpit!$I$10+Cockpit!$I$29)*(1+Cockpit!$I$31)^(A40-1)+Cockpit!$I$30*B40 -> 8006.8655 | E40: =W40+Z40 -> 718.66165 | F40: =X40+AA40 -> 20387.039 | G40: =B40+C40-D40-E40-F40 -> 14075.04 | H40: =R40+S40+T40+U40 -> 2380.9098 | I40: =B40-D40-E40-H40 -> 31519.57 | J40: =I40*Cockpit!$F$33 -> 13966.321 | K40: =G40-J40 -> 108.71901 | L40: =L39+K40 -> 64305.554 | M40: =Y40+AB40 -> 6.7393557e-10 | N40: =MIN(Cockpit!$L$22*(1+Cockpit!$L$23)^A40,Cockpit!$L$26*B40)+Cockpit!$C$36*MAX(0,1-A40/40) -> 647710.19 | O40: =O39+R40+S40 -> 315788.71 | P40: =P39+T40 -> 20000 | Q40: =IF(A40>Cockpit!$L$21,0,IF(A40=Cockpit!$L$21,K40+Cockpit!$L$33,K40)) -> 0 | R40: =IF(AND(A40<=Cockpit!$F$42,Cockpit!$F$40="Ja"),Cockpit!$F$41*Cockpit!$F$44,0) -> 0 | S40: =IF(Cockpit!$F$36="degressiv",MAX(0,MIN(0.05*(Cockpit!$F$37-O39+IF(A40<=Cockpit!$F$42,(A40-1)*R40,0)),Cockpit!$F$37-O39-R40)),IF(OR(Cockpit!$F$40<>"Ja",Cockpit!$F$42<=0,A40<=Cockpit!$F$42),MIN(0.03*Cockpit!$F$37,MAX(0,Cockpit!$F$37-O39-R40)),MIN((Cockpit!$F$37-Cockpit!$F$42*(0.03*Cockpit!$F$37+Cockpit!$F$41*Cockpit!$F$44))/MAX(1,ROUNDDOWN(1/0.03,0)-Cockpit!$F$42),MAX(0,Cockpit!$F$37-O39-R40)))) -> 2380.9098 | T40: =MIN(Cockpit!$F$45*Cockpit!$C$28,MAX(0,Cockpit!$C$28-P39)) -> 0 | U40: =IF(Cockpit!$F$46>0,MIN(Cockpit!$C$24*Cockpit!$F$46,MAX(0,Cockpit!$C$24-V39)),0) -> 0 | V40: =V39+U40 -> 0 | W40: =Y39*Cockpit!$F$15 -> 154.66039 | X40: =MIN(Cockpit!$F$17-W40,Y39) -> 6287.0076 | Y40: =Y39-X40 -> 6.6393113e-11 | Z40: =AB39*Cockpit!$F$21 -> 564.00126 | AA40: =MIN(Cockpit!$F$23-Z40,AB39) -> 14100.032 | AB40: =AB39-AA40 -> 6.0754246e-10 | AC40: =IF(A40>Cockpit!$L$21,0,K40) -> 0

Sheet Konfiguration
B1: ← zurück zum Cockpit
B3: Konfiguration
B4: Hinterlegte Felder = Eingaben. Die Schwellwerte steuern die Ampelfarben im Cockpit
B5: Schwellwerte für Kennzahlen-Ampel (rot = unter Gelb)
B6: Kennzahl | C6: Grün ab | D6: Gelb ab
B7: COCKPIT (NEUBAU)
B8: Cashflow nach Steuern p.a. | C8: 1 | D8: 0
B9: Eigenkapital-Rendite | C9: 0.12 | D9: 0.09
B10: Interner Zinsfuß (inkl. Verkauf) | C10: 0.12 | D10: 0.09
B14: Auswahllisten (Quelle der Dropdowns im Cockpit)
B15: PV-Anlage / § 7b aktiv | C15: Ja
C16: Nein
B17: AfA-Methode | C17: degressiv
C18: linear
